BEGIN:VCALENDAR
VERSION:2.0
PRODID:spatie/icalendar-generator
NAME:United Stroke Alliance
X-WR-CALNAME:United Stroke Alliance
BEGIN:VTIMEZONE
TZID:America/Chicago
BEGIN:DAYLIGHT
DTSTART:20250309T010000
TZOFFSETFROM:-0600
TZOFFSETTO:-0500
END:DAYLIGHT
BEGIN:STANDARD
DTSTART:20251102T010000
TZOFFSETFROM:-0500
TZOFFSETTO:-0600
END:STANDARD
BEGIN:DAYLIGHT
DTSTART:20260308T010000
TZOFFSETFROM:-0600
TZOFFSETTO:-0500
END:DAYLIGHT
END:VTIMEZONE
BEGIN:VTIMEZONE
TZID:UTC
BEGIN:STANDARD
DTSTART:20250724T083525
TZOFFSETFROM:+0000
TZOFFSETTO:+0000
END:STANDARD
END:VTIMEZONE
BEGIN:VEVENT
UID:69e5e54d579b0
DTSTAMP:20260420T083525Z
SUMMARY:Pedal Stroke 2025
DESCRIPTION: Asheville on Bikes had a great event on November 16th! This ev
 ent has past\, but you can still send in your donations with the link belo
 w!\nThis year's event will bring three bands to the stage for an evening o
 f music. Several Dudes\, Karma Dogs and Mission Accomplished\nThis is a fa
 mily-friendly all ages musical and informational event to benefit both the
  United Stroke Alliance – dedicated to uniting and educating people abou
 t prevention\, awareness\, and recovery of stroke for survivors\, caregive
 r\, and their families and\, Asheville on Bikes\, advocating for safe cycl
 ing culture through advocacy and events. To sponsor or purchase tickets\, 
 use the links below!\nTo sponsor or donate: https://unitedstrokealliance.r
 egfox.com/2025-pedal-stroke\n\n\n\n\n
LOCATION:The Grey Eagle Music Hall in Asheville\, NC
URL:https://unitedstrokealliance.org/events/pedal-stroke-2025
DTSTART;TZID=America/Chicago:20251116T170000
DTEND;TZID=America/Chicago:20251116T210000
END:VEVENT
END:VCALENDAR