BEGIN:VCALENDAR
VERSION:2.0
PRODID:spatie/icalendar-generator
NAME:United Stroke Alliance
X-WR-CALNAME:United Stroke Alliance
BEGIN:VTIMEZONE
TZID:America/Chicago
BEGIN:STANDARD
DTSTART:20251102T010000
TZOFFSETFROM:-0500
TZOFFSETTO:-0600
END:STANDARD
BEGIN:DAYLIGHT
DTSTART:20260308T010000
TZOFFSETFROM:-0600
TZOFFSETTO:-0500
END:DAYLIGHT
BEGIN:STANDARD
DTSTART:20261101T010000
TZOFFSETFROM:-0500
TZOFFSETTO:-0600
END:STANDARD
END:VTIMEZONE
BEGIN:VTIMEZONE
TZID:UTC
BEGIN:STANDARD
DTSTART:20250724T083442
TZOFFSETFROM:+0000
TZOFFSETTO:+0000
END:STANDARD
END:VTIMEZONE
BEGIN:VEVENT
UID:69e5e5225df55
DTSTAMP:20260420T083442Z
SUMMARY:Madison Stroke Conference
DESCRIPTION:Join us for the Strength Over Stroke Conference on May 7\, 2026
  in Madison\, Wisconsin. It will be a day to celebrate\, support\, and app
 reciate stroke survivors and caregivers! \nRegister here: https://unitedst
 rokealliance.regfox.com/stroke-conference-madison-wi-2026\n\n\n
LOCATION:Double Tree by Hilton Madison East
URL:https://unitedstrokealliance.org/events/madison-stroke-conference
DTSTART;TZID=America/Chicago:20260507T090000
DTEND;TZID=America/Chicago:20260507T150000
END:VEVENT
END:VCALENDAR